Workbook
Name aod_1: 'Cash Report'!$A$6:$I$56
Name aod_2: 'Cash Report'!$A$6:$I$56
Name Months: 'Cash Flow'!$AG$4:$AG$15

Sheet Cash Flow
N1: Great Oaks Charter School
A2: Great Oaks Charter School
A3: 2020 - 2021 Final Budget | N3: =A3 -> 2020 - 2021 Final Budget
A4: =VLOOKUP($L$7,$AG$4:$AJ$20,3) -> 10 Months Actual and 2 Months Projected | N4: =A4 -> 10 Months Actual and 2 Months Projected | AG4: 44013 | AH4: 1 | AI4: 1 Month Actual and 11 Months Projected | AJ4: As of July 31, 2020
AG5: 44044 | AH5: 2 | AI5: 2 Months Actual and 10 Months Projected | AJ5: As of August 31, 2020
L6: Current Month | AG6: 44075 | AH6: 3 | AI6: 3 Months Actual and 9 Months Projected | AJ6: As of September 30, 2020
F7: ESTIMATED | L7: 44287 | AG7: 44105 | AH7: 4 | AI7: 4 Months Actual and 8 Months Projected | AJ7: As of October 31, 2020
A8: Description | B8: Appropriation/Account Code | D8: Preliminary Budget FY20 | E8: Final Budget FY20 | F8: Received or Spent | G8: % Spent to Date | H8: Committed or to be Received | I8: Summer Encumbrance | J8: Available Balance | K8: Total | L8: Variance Original vs Estimated | N8: {=TRANSPOSE(AG4:AG21)} -> 44013 | O8: 44044 | P8: 44075 | Q8: 44105 | R8: 44136 | S8: 44166 | T8: 44197 | U8: 44228 | V8: 44256 | W8: 44287 | X8: 44317 | Y8: 44348 | Z8: TOTAL 2021 | AG8: 44136 | AH8: 5 | AI8: 5 Months Actual and 7 Months Projected | AJ8: As of November 30, 2020
AG9: 44166 | AH9: 6 | AI9: 6 Months Actual and 6 Months Projected | AJ9: As of December 31, 2020
A10: Enrollment | D10: 318 | E10: 318 | AG10: 44197 | AH10: 7 | AI10: 7 Months Actual and 5 Months Projected | AJ10: As of January 31, 2021
A11: REVENUES | AG11: 44228 | AH11: 8 | AI11: 8 Months Actual and 4 Months Projected | AJ11: As of February 28, 2021
AG12: 44256 | AH12: 9 | AI12: 9 Months Actual and 3 Months Projected | AJ12: As of March 31, 2021
A13: State Appropriation - Operations | B13: 05213 | D13: 3102269 | E13: 3075977 | F13: =SUM(OFFSET(N13,0,0,1,VLOOKUP($L$7,$AG$4:$AH$15,2,FALSE))) -> 3075977 | G13: =IFERROR(F13/E13,0%) -> 1 | H13: =IFERROR(IF($L$7="june",0,SUM(OFFSET(Y13,0,0,1,(VLOOKUP($L$7,$AG$4:$AH$15,2,FALSE)-12)))),0) -> 0 | K13: =F13+H13 -> 3075977 | L13: =K13-E13 -> 0 | N13: =366206+2617894 -> 2984100 | T13: =316311-366206+2714902-2617894 -> 47113 | U13: =2759666-2714902 -> 44764 | Z13: =SUM(N13:Y13) -> 3075977 | AA13: =Z13-E13 -> 0 | AG13: 44287 | AH13: 10 | AI13: 10 Months Actual and 2 Months Projected | AJ13: As of April 30, 2021
A14: Education Sustainment Fund | B14: 05289 | D14: 78147 | E14: 74457 | F14: =SUM(OFFSET(N14,0,0,1,VLOOKUP($L$7,$AG$4:$AH$15,2,FALSE))) -> 74457 | G14: =IFERROR(F14/E14,0%) -> 1 | H14: =IFERROR(IF($L$7="june",0,SUM(OFFSET(Y14,0,0,1,(VLOOKUP($L$7,$AG$4:$AH$15,2,FALSE)-12)))),0) -> 0 | K14: =F14+H14 -> 74457 | L14: =K14-E14 -> 0 | N14: 79923 | U14: =74457-79923 -> -5466 | Z14: =SUM(N14:Y14) -> 74457 | AA14: =Z14-E14 -> 0 | AG14: 44317 | AH14: 11 | AI14: 11 Months Actual and 1 Months Projected | AJ14: As of May 31, 2021
A15: Tech Block Grant | B15: 05235 | D15: 10460 | E15: 9965 | F15: =SUM(OFFSET(N15,0,0,1,VLOOKUP($L$7,$AG$4:$AH$15,2,FALSE))) -> 9965 | G15: =IFERROR(F15/E15,0%) -> 1 | H15: =IFERROR(IF($L$7="june",0,SUM(OFFSET(Y15,0,0,1,(VLOOKUP($L$7,$AG$4:$AH$15,2,FALSE)-12)))),0) -> 0 | K15: =F15+H15 -> 9965 | L15: =K15-E15 -> 0 | N15: 10697 | S15: =9965-10697 -> -732 | Z15: =SUM(N15:Y15) -> 9965 | AA15: =Z15-E15 -> 0 | AG15: 44348 | AH15: 12 | AI15: 12 Months Actual | AJ15: As of June 30, 2021
A16: School Safety & Security Grant | E16: 0 | F16: =SUM(OFFSET(N16,0,0,1,VLOOKUP($L$7,$AG$4:$AH$15,2,FALSE))) -> 0 | G16: =IFERROR(F16/E16,0%) -> 0 | H16: =IFERROR(IF($L$7="june",0,SUM(OFFSET(Y16,0,0,1,(VLOOKUP($L$7,$AG$4:$AH$15,2,FALSE)-12)))),0) -> 0 | K16: =F16+H16 -> 0 | L16: =K16-E16 -> 0 | Z16: =SUM(N16:Y16) -> 0 | AA16: =Z16-E16 -> 0
A17: Educator Participation & Other State | B17: 05302 | D17: 59016 | E17: 574195 | F17: =SUM(OFFSET(N17,0,0,1,VLOOKUP($L$7,$AG$4:$AH$15,2,FALSE))) -> 585281.92 | G17: =IFERROR(F17/E17,0%) -> 1.0193086 | H17: =IFERROR(IF($L$7="june",0,SUM(OFFSET(Y17,0,0,1,(VLOOKUP($L$7,$AG$4:$AH$15,2,FALSE)-12)))),0) -> 0 | K17: =F17+H17 -> 585281.92 | L17: =K17-E17 -> 11086.92 | N17: =142 -> 142 | P17: 1160 | Q17: 57714.46 | T17: 515179.04 | U17: 140.42 | V17: 8526 | W17: 2420 | Z17: =SUM(N17:Y17) -> 585281.92 | AA17: =Z17-E17 -> 11086.92
A18: Educational Opportunity | B18: 05297 | D18: =50650*2 -> 101300 | E18: 101300 | F18: =SUM(OFFSET(N18,0,0,1,VLOOKUP($L$7,$AG$4:$AH$15,2,FALSE))) -> 101300 | G18: =IFERROR(F18/E18,0%) -> 1 | H18: =IFERROR(IF($L$7="june",0,SUM(OFFSET(Y18,0,0,1,(VLOOKUP($L$7,$AG$4:$AH$15,2,FALSE)-12)))),0) -> 0 | K18: =F18+H18 -> 101300 | L18: =K18-E18 -> 0 | N18: =25325+71025-45700 -> 50650 | P18: =50650-25325+96350-71025 -> 50650 | Z18: =SUM(N18:Y18) -> 101300 | AA18: =Z18-E18 -> 0
A19: Math Coaches Initiative | D19: 92715 | E19: 54919 | F19: =SUM(OFFSET(N19,0,0,1,VLOOKUP($L$7,$AG$4:$AH$15,2,FALSE))) -> 0 | G19: =IFERROR(F19/E19,0%) -> 0 | H19: =IFERROR(IF($L$7="june",0,SUM(OFFSET(Y19,0,0,1,(VLOOKUP($L$7,$AG$4:$AH$15,2,FALSE)-12)))),0) -> 25487 | K19: =F19+H19 -> 25487 | L19: =K19-E19 -> -29432 | X19: 25487 | Z19: =SUM(N19:Y19) -> 25487 | AA19: =Z19-E19 -> -29432
A20: School District Local Funds Transfer & Interest | B20: 98000 | D20: 2055866 | E20: 2111091 | F20: =SUM(OFFSET(N20,0,0,1,VLOOKUP($L$7,$AG$4:$AH$15,2,FALSE))) -> 2145237.8 | G20: =IFERROR(F20/E20,0%) -> 1.016175 | H20: =IFERROR(IF($L$7="june",0,SUM(OFFSET(Y20,0,0,1,(VLOOKUP($L$7,$AG$4:$AH$15,2,FALSE)-12)))),0) -> 700 | K20: =F20+H20 -> 2145937.8 | L20: =K20-E20 -> 34846.83 | N20: =145512.81-143854.24 -> 1658.57 | O20: =170265.78-145512.81 -> 24752.97 | P20: =449939.95-170265.78 -> 279674.17 | Q20: =859202.4-449939.95 -> 409262.45 | R20: =860390.79-859202.4+45628.65 -> 46817.04 | S20: =2209317.04-860390.79 -> 1348926.2 | T20: =2227312.28-2209317.04 -> 17995.24 | U20: =2231161.1-2227312.28 -> 3848.82 | V20: =2232756.47-2231161.1+55763.17-45628.65 -> 11729.89 | W20: 572.43 | X20: 400 | Y20: 300 | Z20: =SUM(N20:Y20) -> 2145937.8 | AA20: =Z20-E20 -> 34846.83
A21: CSP | D21: 113295 | E21: 113295 | F21: =SUM(OFFSET(N21,0,0,1,VLOOKUP($L$7,$AG$4:$AH$15,2,FALSE))) -> 0 | G21: =IFERROR(F21/E21,0%) -> 0 | H21: =IFERROR(IF($L$7="june",0,SUM(OFFSET(Y21,0,0,1,(VLOOKUP($L$7,$AG$4:$AH$15,2,FALSE)-12)))),0) -> 0 | K21: =F21+H21 -> 0 | L21: =K21-E21 -> -113295 | Z21: =SUM(N21:Y21) -> 0 | AA21: =Z21-E21 -> -113295 | AG21: Budget Projections | AH21: 0 | AI21: 12 Months Projected | AJ21: Projected only
A22: Federal Funds | D22: 921402 | E22: 927098 | F22: =SUM(OFFSET(N22,0,0,1,VLOOKUP($L$7,$AG$4:$AH$15,2,FALSE))) -> 1012032.8 | G22: =IFERROR(F22/E22,0%) -> 1.0916136 | H22: =IFERROR(IF($L$7="june",0,SUM(OFFSET(Y22,0,0,1,(VLOOKUP($L$7,$AG$4:$AH$15,2,FALSE)-12)))),0) -> 798281 | K22: =F22+H22 -> 1810313.8 | L22: =K22-E22 -> 883215.83 | N22: =3185125.12-2999325.12 -> 185800 | O22: =3407039.12-3185125.12 -> 221914 | P22: =3584977.12-3407039.12 -> 177938 | Q22: =3909920.95-3584977.12 -> 324943.83 | S22: =3926422.95-3909920.95 -> 16502 | U22: 35000 | W22: =4011357.95-3961422.95 -> 49935 | Y22: 798281 | Z22: =SUM(N22:Y22) -> 1810313.8 | AA22: =Z22-E22 -> 883215.83
A23: MCI | B23: 50022 | D23: 68817 | E23: 68817 | F23: =SUM(OFFSET(N23,0,0,1,VLOOKUP($L$7,$AG$4:$AH$15,2,FALSE))) -> 68817 | G23: =IFERROR(F23/E23,0%) -> 1 | H23: =IFERROR(IF($L$7="june",0,SUM(OFFSET(Y23,0,0,1,(VLOOKUP($L$7,$AG$4:$AH$15,2,FALSE)-12)))),0) -> 0 | K23: =F23+H23 -> 68817 | L23: =K23-E23 -> 0 | N23: 68817 | Z23: =SUM(N23:Y23) -> 68817 | AA23: =Z23-E23 -> 0
A24: Contributions | B24: 98159 | D24: =200000+60000-110000 -> 150000 | E24: 136550 | F24: =SUM(OFFSET(N24,0,0,1,VLOOKUP($L$7,$AG$4:$AH$15,2,FALSE))) -> 131550 | G24: =IFERROR(F24/E24,0%) -> 0.96338338 | H24: =IFERROR(IF($L$7="june",0,SUM(OFFSET(Y24,0,0,1,(VLOOKUP($L$7,$AG$4:$AH$15,2,FALSE)-12)))),0) -> 0 | K24: =F24+H24 -> 131550 | L24: =K24-E24 -> -5000 | P24: =399838.31-388338.31 -> 11500 | R24: =423888.31-399838.31 -> 24050 | T24: =405838.31-399838.31+90000 -> 96000 | Z24: =SUM(N24:Y24) -> 131550 | AA24: =Z24-E24 -> -5000
A25: Other & School Activities/Americorps | B25: 99150 | D25: 10931 | E25: 10931 | F25: =SUM(OFFSET(N25,0,0,1,VLOOKUP($L$7,$AG$4:$AH$15,2,FALSE))) -> 0 | G25: =IFERROR(F25/E25,0%) -> 0 | H25: =IFERROR(IF($L$7="june",0,SUM(OFFSET(Y25,0,0,1,(VLOOKUP($L$7,$AG$4:$AH$15,2,FALSE)-12)))),0) -> 10931 | K25: =F25+H25 -> 10931 | L25: =K25-E25 -> 0 | X25: 6055 | Y25: =10931-6055 -> 4876 | Z25: =SUM(N25:Y25) -> 10931 | AA25: =Z25-E25 -> 0
A26: Prior Year Carryover | D26: 1098906.9 | E26: 1098907 | F26: =SUM(OFFSET(N26,0,0,1,VLOOKUP($L$7,$AG$4:$AH$15,2,FALSE))) -> 1098906.9 | G26: =IFERROR(F26/E26,0%) -> 0.99999992 | H26: =IFERROR(IF($L$7="june",0,SUM(OFFSET(Y26,0,0,1,(VLOOKUP($L$7,$AG$4:$AH$15,2,FALSE)-12)))),0) -> 0 | K26: =F26+H26 -> 1098906.9 | L26: =K26-E26 -> -0.09 | N26: 1098906.9 | Z26: =SUM(N26:Y26) -> 1098906.9 | AA26: =Z26-E26 -> -0.09
K27: =F27+H27 -> 0 | AA27: =Z27-E27 -> 0
A28: TOTAL REVENUES | D28: =SUM(D13:D27) -> 7863124.9 | E28: =SUM(E13:E27) -> 8357502 | F28: =SUM(F13:F27) -> 8303525.5 | G28: =IFERROR(F28/E28,0%) -> 0.99354155 | H28: =SUM(H13:H27) -> 835399 | J28: =SUM(J13:J27) -> 0 | K28: =SUM(K13:K27) -> 9138924.5 | L28: =SUM(L13:L27) -> 781422.49 | N28: =SUM(N13:N27) -> 4480694.5 | O28: =SUM(O13:O27) -> 246666.97 | P28: =SUM(P13:P27) -> 520922.17 | Q28: =SUM(Q13:Q27) -> 791920.74 | R28: =SUM(R13:R27) -> 70867.04 | S28: =SUM(S13:S27) -> 1364696.2 | T28: =SUM(T13:T27) -> 676287.28 | U28: =SUM(U13:U27) -> 78287.24 | ... Z28: =SUM(Z13:Z27) -> 9138924.5 | AA28: =Z28-E28 -> 781422.49
AA29: =Z29-E29 -> 0
A30: EXPENDITURES | AA30: =Z30-E30 -> 0
A31: Administration | B31: 51165/51151/51157 | D31: =618000-48000-20000 -> 550000 | E31: 738227 | F31: =SUM(OFFSET(N31,0,0,1,VLOOKUP($L$7,$AG$4:$AH$15,2,FALSE))) -> 651835.23 | G31: =IFERROR(F31/E31,0%) -> 0.88297398 | H31: =IFERROR(IF($L$7="june",0,SUM(OFFSET(Y31,0,0,1,(VLOOKUP($L$7,$AG$4:$AH$15,2,FALSE)-12)))),0) -> 120000 | K31: =H31+F31 -> 771835.23 | L31: =E31-K31 -> -33608.23 | N31: =2255.77+11000+25949.81+19634.62+23757.11+7692.3 -> 90289.61 | O31: =6627.7+8461.54+14615.4+21694.08+12647.3+7692.3 -> 71738.32 | P31: =8461.54+14615.4+18663.08+12647.3+7692.3+6627.7 -> 68707.32 | Q31: =4308+8461.54+14615.4+11107.16+12647.3+7692.3 -> 58831.7 | R31: =8461.54+14615.4+10384.62+12647.3+7692.3 -> 53801.16 | S31: =2156.9+12692.31+21923.1+15576.93+18970.95+11538.45 -> 82858.64 | T31: =8461.54+14615.4+10384.62+12647.3+7692.3 -> 53801.16 | U31: =8461.54+14615.4+10384.62+12647.3+7692.3 -> 53801.16 | V31: =8461.54+14615.4+10384.62+12647.3+4076.92+7692.3 -> 57878.08 | W31: =2250+8461.54+14615.4+10384.62+12647.3+4076.92+7692.3 -> 60128.08 | X31: 60000 | Y31: 60000 | Z31: =SUM(N31:Y31) -> 771835.23 | AA31: =Z31-E31 -> 33608.23
A32: Teachers (regular)/Para/Subs | B32: 51100/51004/51005/51017 | D32: =1850000-19715-21123-29572-22040-32000-44643-30000+30000 -> 1680907 | E32: 1640000 | F32: =SUM(OFFSET(N32,0,0,1,VLOOKUP($L$7,$AG$4:$AH$15,2,FALSE))) -> 1303054.5 | G32: =IFERROR(F32/E32,0%) -> 0.79454543 | H32: =IFERROR(IF($L$7="june",0,SUM(OFFSET(Y32,0,0,1,(VLOOKUP($L$7,$AG$4:$AH$15,2,FALSE)-12)))),0) -> 250000 | K32: =H32+F32 -> 1553054.5 | L32: =E32-K32 -> 86945.5 | N32: =1923.08+152593.3+6634.62+13941.89 -> 175092.89 | O32: =77056.34+4445.19+4224.22 -> 85725.75 | P32: =108560.71+4467.3+15192.32 -> 128220.33 | Q32: =6346.16+107853.08+4467.3+12307.7 -> 130974.24 | R32: =6134.62+110969.24+4467.3+12307.7 -> 133878.86 | S32: =6653.28+151352.06+6700.95+18461.55+4076.92 -> 187244.76 | T32: =-4511.28+96829.46+4467.3+12307.7+4076.92 -> 113170.1 | U32: =-12480.78+94572.06+4467.3+12307.7+4076.92 -> 102943.2 | V32: =103325.28+4467.3+12307.7 -> 120100.28 | W32: =4285+104644.09+4467.3+12307.7 -> 125704.09 | X32: 125000 | Y32: 125000 | Z32: =SUM(N32:Y32) -> 1553054.5 | AA32: =Z32-E32 -> -86945.5
A33: Nurse | B33: 51130 | D33: 38000 | E33: 38000 | F33: =SUM(OFFSET(N33,0,0,1,VLOOKUP($L$7,$AG$4:$AH$15,2,FALSE))) -> 28481.15 | G33: =IFERROR(F33/E33,0%) -> 0.74950395 | H33: =IFERROR(IF($L$7="june",0,SUM(OFFSET(Y33,0,0,1,(VLOOKUP($L$7,$AG$4:$AH$15,2,FALSE)-12)))),0) -> 9076.92 | K33: =H33+F33 -> 37558.07 | L33: =E33-K33 -> 441.93 | R33: 3519.62 | S33: 6807.69 | T33: 4538.46 | U33: 4538.46 | V33: 4538.46 | W33: 4538.46 | X33: 4538.46 | Y33: 4538.46 | Z33: =SUM(N33:Y33) -> 37558.07 | AA33: =Z33-E33 -> -441.93
A34: Clerical | B34: 51194 | D34: 180000 | E34: 185000 | F34: =SUM(OFFSET(N34,0,0,1,VLOOKUP($L$7,$AG$4:$AH$15,2,FALSE))) -> 160465.16 | G34: =IFERROR(F34/E34,0%) -> 0.86737924 | H34: =IFERROR(IF($L$7="june",0,SUM(OFFSET(Y34,0,0,1,(VLOOKUP($L$7,$AG$4:$AH$15,2,FALSE)-12)))),0) -> 24250 | K34: =H34+F34 -> 184715.16 | L34: =E34-K34 -> 284.84 | N34: =9941.55+5884.61+2000+24541.81 -> 42367.97 | O34: =3076.92+11360.1 -> 14437.02 | P34: =3076.92+8959.62 -> 12036.54 | Q34: =3076.92+9015.87 -> 12092.79 | R34: =3076.92+9047.12 -> 12124.04 | S34: =4615.38+13370.68 -> 17986.06 | T34: =3076.92+8515.87 -> 11592.79 | U34: =3076.92+8905.43 -> 11982.35 | V34: =3076.92+9996.91 -> 13073.83 | W34: =3076.92+9694.85 -> 12771.77 | X34: 12125 | Y34: 12125 | Z34: =SUM(N34:Y34) -> 184715.16 | AA34: =Z34-E34 -> -284.84
A35: Para | B35: 51104 | D35: 20000 | E35: 30000 | F35: =SUM(OFFSET(N35,0,0,1,VLOOKUP($L$7,$AG$4:$AH$15,2,FALSE))) -> 26481.3 | G35: =IFERROR(F35/E35,0%) -> 0.88271 | H35: =IFERROR(IF($L$7="june",0,SUM(OFFSET(Y35,0,0,1,(VLOOKUP($L$7,$AG$4:$AH$15,2,FALSE)-12)))),0) -> 7472 | K35: =H35+F35 -> 33953.3 | L35: =E35-K35 -> -3953.3 | T35: 15274.2 | U35: 3735.7 | V35: 3735.7 | W35: 3735.7 | X35: 3736 | Y35: 3736 | Z35: =SUM(N35:Y35) -> 33953.3 | AA35: =Z35-E35 -> 3953.3
A36: EPER/Stipends | B36: 51176 | D36: 187000 | E36: 187000 | F36: =SUM(OFFSET(N36,0,0,1,VLOOKUP($L$7,$AG$4:$AH$15,2,FALSE))) -> 141867.45 | G36: =IFERROR(F36/E36,0%) -> 0.75864947 | H36: =IFERROR(IF($L$7="june",0,SUM(OFFSET(Y36,0,0,1,(VLOOKUP($L$7,$AG$4:$AH$15,2,FALSE)-12)))),0) -> 45100 | K36: =H36+F36 -> 186967.45 | L36: =E36-K36 -> 32.55 | N36: =5400+51633.29 -> 57033.29 | O36: 9216.66 | P36: =3550 -> 3550 | Q36: =200 -> 200 | R36: =14625 -> 14625 | S36: =1000+8000 -> 9000 | T36: 18000 | U36: =5167+400 -> 5567 | V36: 2500 | W36: 22175.5 | X36: 22500 | Y36: 22600 | Z36: =SUM(N36:Y36) -> 186967.45 | AA36: =Z36-E36 -> -32.55
F37: =SUM(OFFSET(N37,0,0,1,VLOOKUP($L$7,$AG$4:$AH$15,2,FALSE))) -> 0 | G37: =IFERROR(F37/E37,0%) -> 0 | H37: =IFERROR(IF($L$7="june",0,SUM(OFFSET(Y37,0,0,1,(VLOOKUP($L$7,$AG$4:$AH$15,2,FALSE)-12)))),0) -> 0 | K37: =H37+F37 -> 0 | L37: =E37-K37 -> 0 | Z37: =SUM(N37:Y37) -> 0 | AA37: =Z37-E37 -> 0
AA38: =Z38-E38 -> 0
A39: Total Salaries | D39: =SUM(D31:D38) -> 2655907 | E39: =SUM(E31:E38) -> 2818227 | F39: =SUM(F31:F38) -> 2312184.8 | G39: =IFERROR(F39/E39,0%) -> 0.82043951 | H39: =SUM(H31:H38) -> 455898.92 | I39: =SUM(I31:I37) -> 0 | J39: =SUM(J31:J38) -> 0 | K39: =SUM(K31:K38) -> 2768083.7 | L39: =SUM(L31:L38) -> 50143.29 | N39: =SUM(N31:N38) -> 364783.76 | O39: =SUM(O31:O38) -> 181117.75 | P39: =SUM(P31:P38) -> 212514.19 | Q39: =SUM(Q31:Q38) -> 202098.73 | R39: =SUM(R31:R38) -> 217948.68 | S39: =SUM(S31:S38) -> 303897.15 | T39: =SUM(T31:T38) -> 216376.71 | U39: =SUM(U31:U38) -> 182567.87 | ... Y39: =SUM(Y31:Y38) -> 227999.46 | Z39: =SUM(Z31:Z37) -> 2768083.7 | AA39: =Z39-E39 -> -50143.29
AA40: =Z40-E40 -> 0
...

Sheet DFMS Summary
B1: Fiscal Yr | C1: Fund | D1: Appr Code | E1: Description | F1: Avail funds | G1: Encumbrances | H1: Expenditures | I1: Balance | J1: End Date
B3: 2015 | C3: 105 | D3: 05235 | E3: Technology Block Grant | F3: 3214 | I3: =F3-G3-H3 -> 3214 | J3: 42185
B5: 2015 | C5: 105 | D5: 05213 | E5: Operations | F5: 1099530 | G5: 99034.54 | H5: 747090.87 | I5: =F5-G5-H5 -> 253404.59 | J5: 42185
B6: 2015 | C6: 105 | D6: 05215 | E6: Educ Acountability | F6: 663 | G6: 0 | H6: 0 | I6: =F6-G6-H6 -> 663 | J6: 42185
B7: 2015 | C7: 105 | D7: 05289 | E7: Ed Sustainment Fund | F7: 38782 | H7: 21307.03 | I7: =F7-G7-H7 -> 17474.97 | J7: 42185
E9: Total State Fund | F9: =SUM(F2:F8) -> 1142189 | G9: =SUM(G2:G8) -> 99034.54 | H9: =SUM(H2:H8) -> 768397.9 | I9: =SUM(I2:I8) -> 274756.56
B12: 2015 | C12: 005 | D12: 98260 | E12: Charter - Start Up | J12: 42185
B14: 2015 | C14: 005 | D14: 98000 | E14: Local Funds | F14: 813784.26 | G14: 794 | H14: 316789.48 | I14: =+F14-G14-H14 -> 496200.78 | J14: 42185
B16: 2015 | C16: 005 | D16: 91100 | E16: Lunch Money | J16: 42185
A18: * | B18: 2015 | C18: 005 | D18: 98159 | E18: Donations | F18: 132632.97 | H18: 38037.95 | I18: =F18-G18-H18 -> 94595.02 | J18: 42185
E20: Total Local Fund | F20: =SUM(F12:F19) -> 946417.23 | G20: =SUM(G12:G18) -> 794 | H20: =SUM(H12:H19) -> 354827.43 | I20: =SUM(I12:I19) -> 590795.8
B22: 2015 | C22: 505 | D22: 40114 | E22: Title II | F22: 13002 | I22: =+F22-G22-H22 -> 13002 | J22: 42704
B23: 2105 | C23: 505 | D23: 40554 | E23: Title I | F23: 71596 | I23: =+F23-G23-H23 -> 71596 | J23: 42704
B24: 2015 | C24: 505 | D24: 40564 | E24: IDEA - B | F24: 35985 | I24: =+F24-G24-H24 -> 35985 | J24: 42704
E26: All Funds Total | F26: =F9+F20+F22+F23+F24 -> 2209189.2 | G26: =G9+G20+G22+G23+G24 -> 99828.54 | H26: =H9+H20+H22+H23+H24 -> 1123225.3 | I26: =I9+I20+I22+I23+I24 -> 986135.36
C28: Payment from Academia checkbook for EL fees (not in FSF) | H28: 35933.34
C29: Total Expenditures as of December 31, 2014 | H29: =SUM(H26:H28) -> 1159158.7

Sheet Sheet1
B5: Year To Date
A6: Principal | B6: =51961.44+6461.54 -> 58422.98
A7: Teachers (regular) | B7: =199419.66+50313.11 -> 249732.77
A8: Nurse | B8: 8746 | C8: =1355.5*14 -> 18977 | D8: =+C8+B8 -> 27723
A9: Clerical | B9: =5760+5760 -> 11520
A10: Custodian
A11: Director | B11: =32501.97+18585.97 -> 51087.94
A12: Hourly Salaries
A13: Substitute Teachers
A14: Paraprofessionals | B14: =23769.3+12592.33 -> 36361.63 | C14: =1102.82*12+858.69*14+905.9*14 -> 37938.1 | D14: =+C14+B14 -> 74299.73
A15: EPER - Extra Curricular
A16: Summer School
A19: Director
A20: Caridad | B20: =3273.81+4912.25+6553.76+3273.81*7+3273.81*12 -> 76942.21
A21: Browne | B21: =3846.1583+1871.51 -> 5717.6683
B22: =SUM(B20:B21) -> 82659.878
A23: Principal
A24: Uridiales | B24: =3230.77*5+4281.9+5685.82 -> 26121.57
A25: Barry | B25: 35824
B26: =SUM(B24:B25) -> 61945.57 | G26: 11543
A27: Teacher | C27: Current | D27: Revised | F27: Health
A28: Bickel | B28: B, 0 | C28: 35243 | D28: 35243 | F28: 0
A29: Cardona | B29: B, 1 | C29: =1355.5*26 -> 35243 | D29: 36030 | F29: 707.65 | G29: =+F29*13 -> 9199.45
A30: Eppinger | B30: M, 11 | C30: 36436 | D30: =58938*64.44% -> 37979.647 | F30: 0 | G30: =+F30*13 -> 0
A31: Flores | B31: B, 0 | C31: 35243 | D31: 35243 | F31: 268.17 | G31: =+F31*13 -> 3486.21
A32: Le | B32: M, 0 | C32: 25421 | D32: =39449*64.44% -> 25420.936 | G32: =+F32*13 -> 0
A33: Martinez | B33: M, 9 | C33: 58938 | D33: 54752 | F33: 705.83 | G33: =+F33*13 -> 9175.79
A34: Otero | B34: B, 0 | C34: 35243 | D34: 35243 | G34: =+F34*13 -> 0
A35: Pasquale | B35: M, 1 | C35: 40447 | D35: 40447 | F35: 270.12 | G35: =+F35*13 -> 3511.56
A36: Quackenbush | B36: B, 0 | C36: 35243 | D36: 35243 | F36: 263.72 | G36: =+F36*13 -> 3428.36
A37: Smith | B37: M15, 5 | C37: 46700 | D37: 48620 | F37: 705.83 | G37: =+F37*13 -> 9175.79
A38: Torres | B38: B, 5 | C38: 25065 | D38: =40447*64.44% -> 26064.047 | G38: =+F38*13 -> 0
A39: Wilsey | B39: M, 8 | C39: 48111 | D39: 52985 | F39: 268.17 | G39: =+F39*13 -> 3486.21
A40: Robertson | B40: term | D40: =723.17+1446.35*8+4400.79 -> 16694.76
A41: Arroyo | B41: term | D41: =4400.87+1760.35*6+3115.23 -> 18078.2
A42: Aud Diaz | D42: =856.83+1713.65+1235.73 -> 3806.21
A43: New | D43: 18243 | F43: 700 | G43: =+F43*9 -> 6300
A44: New | D44: 18243 | F44: 700 | G44: =+F44*9 -> 6300
D45: =SUM(D28:D44) -> 538335.8 | G45: =SUM(G26:G44) -> 65606.37
A46: Nurse | F46: 711.52 | G46: =+F46*13 -> 9249.76
...

Sheet Cash Report
A2: Great Oaks Charter School
A3: Summary by Fiscal Year - Fund - Appropriation
A4: =VLOOKUP('Cash Flow'!$L$7,'Cash Flow'!$AG$4:$AJ$20,4) -> As of April 30, 2021
A6: Fiscal Yr | B6: Fund | C6: Appr Code | D6: Description | E6: Avail funds | F6: Encumbrances | G6: Expenditures | H6: Prior Yr Expenditures | I6: Balance | J6: End Date
A7: 2021 | B7: 111 | C7: 05213 | D7: OPERATIONS | E7: 2759666 | F7: 47722 | G7: 2525358.9 | I7: =E7-F7-G7 -> 186585.09 | J7: 44377
A8: 2021 | B8: 111 | C8: 05177 | D8: Charter Transportation | E8: 316311 | G8: 243285.79 | I8: =E8-F8-G8 -> 73025.21 | J8: 44377
A9: 2021 | B9: 111 | C9: 05105 | D9: Educator Prep Partners | E9: 57714.46 | G9: 10573.03 | I9: =E9-F9-G9 -> 47141.43 | J9: 44377
A10: 2021 | B10: 111 | C10: 05181 | D10: Unique Alternatives | E10: 8526 | I10: =E10-F10-G10 -> 8526 | J10: 44377
A11: 2021 | B11: 111 | C11: 05317 | D11: Child Safety Awareness | E11: 142 | I11: =E11-F11-G11 -> 142 | J11: 44377
A12: 2021 | B12: 111 | C12: 05235 | D12: Technology Block Grant | E12: 9965 | G12: 9965 | I12: =E12-F12-G12 -> 0 | J12: 44377
A13: 2021 | B13: 111 | C13: 05288 | D13: Operations | E13: 515179.04 | G13: 358121.02 | I13: =E13-F13-G13 -> 157058.02 | J13: 6/30/21
A14: 2021 | B14: 111 | C14: 05289 | D14: Ed Sustainment Fund | E14: 74457 | G14: 74457 | I14: =E14-F14-G14-H14 -> 0 | J14: 44377
A15: 2019 | B15: 111 | C15: 10171 | D15: School Safety & Security | E15: 15107.94 | H15: 12266.57 | I15: =E15-F15-G15-H15 -> 2841.37 | J15: 44377
A16: 2021 | B16: 111 | C16: 05297 | D16: Education Opportunity | E16: 50650 | G16: 25215.15 | I16: =E16-F16-G16-H16 -> 25434.85 | J16: 44377
A17: 2021 | B17: 111 | C17: 05302 | D17: CPR Instruction | E17: 140.42 | I17: =E17-F17-G17-H17 -> 140.42 | J17: 44377
A18: 2021 | B18: 111 | C18: 05316 | D18: Crirical Needs Scholarship | E18: 2420 | I18: =E18-F18-G18-H18 -> 2420 | J18: 44377
A19: 2020 | B19: 111 | C19: 05297 | D19: Education Opportunity | E19: 45700 | G19: 10522.43 | H19: 35177.57 | I19: =E19-F19-G19-H19 -> 0 | J19: 44377
A20: 2020 | B20: 111 | C20: 08914 | D20: Educational Opportunity | E20: 96350 | G20: 35737.62 | H20: 35177.43 | I20: =E20-F20-G20-H20 -> 25434.95 | J20: 44377
A21: 2020 | B21: 111 | C21: 05213 | D21: OPERATIONS | E21: 3646802 | G21: 6386.48 | H21: 3636677.2 | I21: =E21-F21-G21-H21 -> 3738.35 | J21: 44377
A22: 2020 | B22: 111 | C22: 05299 | D22: School Transfer | E22: 1160 | G22: 1160 | I22: =E22-F22-G22-H22 -> 0 | J22: 44377
A23: 2020 | B23: 711 | C23: 59970 | D23: School Safety & Security | E23: 14598.15 | I23: =E23-F23-G23-H23 -> 14598.15 | J23: 44742
A24: 2021 | B24: 711 | C24: 50022 | D24: MCI | E24: 68817 | G24: 68817 | I24: =E24-F24-G24-H24 -> 0 | J24: 45107
A25: 2020 | B25: 711 | C25: 50022 | D25: MCI | E25: 71001 | G25: 71001 | I25: =E25-F25-G25-H25 -> 0 | J25: 44742
D26: Total State Fund | E26: =SUM(E7:E25) -> 7754707 | F26: =SUM(F7:F25) -> 47722 | G26: =SUM(G7:G25) -> 3440600.4 | H26: =SUM(H7:H25) -> 3719298.7 | I26: =SUM(I7:I25) -> 547085.84
A28: 2019 | B28: 511 | C28: 40114 | D28: IASA Title II | E28: 41204 | G28: 2 | H28: 41202 | I28: =E28-F28-G28-H28 -> 0 | J28: 44530
A29: 2020 | B29: 511 | C29: 40114 | D29: IASA Title II | E29: 48486 | G29: 3169.66 | H29: 45316.34 | I29: =E29-F29-G29-H29 -> 0 | J29: 44530
A30: 2021 | B30: 511 | C30: 40114 | D30: IASA Title II | E30: 50036 | G30: 22632.76 | I30: =E30-F30-G30-H30 -> 27403.24 | J30: 44895
A31: 2019 | B31: 511 | C31: 40240 | D31: 21st Century Learning | E31: 320000 | G31: 38740.26 | H31: 281259.74 | I31: =E31-F31-G31-H31 -> 0 | J31: 44469
A32: 2020 | B32: 511 | C32: 40240 | D32: 21st Century Learning | E32: 348600 | F32: 7867.5 | G32: 274547.32 | H32: 29362.14 | I32: =E32-F32-G32-H32 -> 36823.04 | J32: 44469
A33: 2021 | B33: 511 | C33: 40240 | D33: 21st Century Learning | E33: 285800 | F33: 36000 | G33: 24434.01 | H33: 0 | I33: =E33-F33-G33-H33 -> 225365.99 | J33: 44469
A34: 2019 | B34: 511 | C34: 40532 | D34: Title IV | E34: 27210 | G34: 2875.3 | H34: 24334.7 | I34: =E34-F34-G34-H34 -> 0 | J34: 44530
A35: 2020 | B35: 511 | C35: 40532 | D35: Title IV | E35: 30248 | G35: -973.68 | H35: 26757.27 | I35: =E35-F35-G35-H35 -> 4464.41 | J35: 44530
A36: 2021 | B36: 511 | C36: 40532 | D36: Title IV | E36: 31094 | G36: 16979.74 | I36: =E36-F36-G36-H36 -> 14114.26 | J36: 44895
A37: 2019 | B37: 511 | C37: 40564 | D37: IDEA B | E37: 108220.8 | G37: 7887.27 | H37: 100333.53 | I37: =E37-F37-G37-H37 -> 0 | J37: 44530
A38: 2020 | B38: 511 | C38: 40564 | D38: IDEA B | E38: 117011 | G38: 6760.62 | H38: 90891.44 | I38: =E38-F38-G38-H38 -> 19358.94 | J38: 44530
A39: 2021 | B39: 511 | C39: 40564 | D39: IDEA B | E39: 121467 | G39: 88225.68 | I39: =E39-F39-G39-H39 -> 33241.32 | J39: 44591
A40: 2020 | B40: 511 | C40: 41015 | D40: Career Tech | E40: 38203.31 | G40: 4954.25 | H40: 17271.68 | I40: =E40-F40-G40-H40 -> 15977.38 | J40: 44530
A41: 2021 | B41: 511 | C41: 41015 | D41: Career Tech | E41: 21501.83 | G41: 13615.1 | I41: =E41-F41-G41-H41 -> 7886.73 | J41: 44530
A42: 2020 | B42: 511 | C42: 40730 | D42: School Emergency Relief | E42: 222593 | F42: 48820 | G42: 175457.64 | I42: =E42-F42-G42-H42 -> -1684.64 | J42: 44895
A43: 2020 | B43: 511 | C43: 40768 | D43: GEER | E43: 35000 | G43: 8000 | I43: =E43-F43-G43-H43 -> 27000 | J43: 44925
...

Sheet Web Report
A1: Great Oaks Charter School
A2: Monthly Financial Statement
B3: =VLOOKUP('Cash Flow'!$L$7,'Cash Flow'!$AG$4:$AJ$20,4) -> As of April 30, 2021
A4: General Operating Budget
B6: REVENUE
B7: State Funds | C7: Final FY 21 Budget | D7: Receipt to Date | F7: % Received | G7: Over/(Under) Budget
G9: =C9-D9 -> 0
B10: Operations (05213) | C10: ='Cash Flow'!E13 -> 3075977 | D10: ='Cash Flow'!F13 -> 3075977 | F10: =D10/C10 -> 1 | G10: =D10-C10 -> 0
B11: Education Sustainment Fund (05289) | C11: ='Cash Flow'!E14 -> 74457 | D11: ='Cash Flow'!F14 -> 74457 | F11: =D11/C11 -> 1 | G11: =D11-C11 -> 0
B12: Tech Block Grant (05235) | C12: ='Cash Flow'!E15 -> 9965 | D12: ='Cash Flow'!F15 -> 9965 | F12: =D12/C12 -> 1 | G12: =D12-C12 -> 0
B13: School Safety & Security Grant & Other State | C13: ='Cash Flow'!E16+'Cash Flow'!E17+'Cash Flow'!E19 -> 629114 | D13: ='Cash Flow'!F16+'Cash Flow'!F17 -> 585281.92 | G13: =D13-C13 -> -43832.08
B14: Educational Opportunity (05297) | C14: ='Cash Flow'!E18 -> 101300 | D14: ='Cash Flow'!F18 -> 101300 | F14: =D14/C14 -> 1 | G14: =D14-C14 -> 0
B15: MCI (50022) | C15: ='Cash Flow'!E23 -> 68817 | D15: ='Cash Flow'!F23 -> 68817 | F15: =D15/C15 -> 1 | G15: =D15-C15 -> 0
B17: Total State Funds | C17: =SUM(C9:C15) -> 3959630 | D17: =SUM(D9:D15) -> 3915797.9 | F17: =IFERROR(D17/C17,0) -> 0.98893026 | G17: =SUM(G10:G15) -> -43832.08
B20: School District Local Funds Transfer & Interest (98000) | C20: ='Cash Flow'!E20 -> 2111091 | D20: ='Cash Flow'!F20 -> 2145237.8 | F20: =D20/C20 -> 1.016175 | G20: =D20-C20 -> 34146.83
B21: Federal Funds | C21: ='Cash Flow'!E22 -> 927098 | D21: ='Cash Flow'!F22 -> 1012032.8 | F21: =D21/C21 -> 1.0916136 | G21: =D21-C21 -> 84934.83
B22: CSP | C22: ='Cash Flow'!E21 -> 113295 | D22: ='Cash Flow'!F21 -> 0 | F22: =D22/C22 -> 0 | G22: =D22-C22 -> -113295
B23: Contributions (98159) | C23: ='Cash Flow'!E24 -> 136550 | D23: ='Cash Flow'!F24 -> 131550 | F23: =D23/C23 -> 0.96338338 | G23: =D23-C23 -> -5000
B24: Other | C24: ='Cash Flow'!E25 -> 10931 | D24: ='Cash Flow'!F25 -> 0 | F24: =D24/C24 -> 0 | G24: =D24-C24 -> -10931
B25: Carryover | C25: ='Cash Flow'!E26 -> 1098907 | D25: ='Cash Flow'!F26 -> 1098906.9 | F25: =D25/C25 -> 0.99999992 | G25: =D25-C25 -> -0.09
C26: =SUM(C20:C25) -> 4397872 | D26: =SUM(D20:D25) -> 4387727.6 | F26: =D26/C26 -> 0.99769333 | G26: =SUM(G20:G25) -> -10144.43
B27: All Funds Total | C27: =SUM(C17:C25) -> 8357502 | D27: =SUM(D17:D25) -> 8303525.5 | F27: =IFERROR(D27/C27,0) -> 0.99354155 | G27: =G26+G17 -> -53976.51
B31: EXPENDITURES
B33: Operating Budget Description | C33: Final Budget | D33: Encumbrances | F33: Expenditures | G33: Balance | H33: Percentage Obligated
B35: Salaries and Benefits | C35: ='Cash Flow'!E39+'Cash Flow'!E47 -> 4151496 | F35: ='Cash Flow'!F39+'Cash Flow'!F47 -> 3412169.3 | G35: =C35-F35-D35 -> 739326.67 | H35: =IFERROR((D35+F35)/C35,0) -> 0.82191319
B36: Utilities | C36: =+'Cash Flow'!E60 -> 0 | F36: =+'Cash Flow'!F60 -> 0 | G36: =C36-F36-D36 -> 0 | H36: =IFERROR((D36+F36)/C36,0) -> 0
B37: Facility-Rent | C37: ='Cash Flow'!E66 -> 870276 | D37: 96689.67 | F37: ='Cash Flow'!F66 -> 821862.11 | G37: =C37-F37-D37 -> -48275.78 | H37: =IFERROR((D37+F37)/C37,0) -> 1.0554718
B38: Transportation | C38: ='Cash Flow'!E68 -> 414000 | F38: ='Cash Flow'!F68 -> 248594.65 | G38: =C38-F38-D38 -> 165405.35 | H38: =IFERROR((D38+F38)/C38,0) -> 0.60047017
B39: Contractor--Food Service | C39: ='Cash Flow'!E62 -> 0 | F39: 0 | G39: =C39-F39-D39 -> 0 | H39: =IFERROR((D39+F39)/C39,0) -> 0
B40: Professional Services | C40: ='Cash Flow'!E51 -> 195000 | F40: =+'Cash Flow'!F51 -> 169861.42 | G40: =C40-F40-D40 -> 25138.58 | H40: =IFERROR((D40+F40)/C40,0) -> 0.87108421
B41: Education Services | C41: ='Cash Flow'!E53+'Cash Flow'!E56+'Cash Flow'!E54+'Cash Flow'!E57 -> 470010 | D41: =7867.5+15120 -> 22987.5 | F41: ='Cash Flow'!F53+'Cash Flow'!F56+'Cash Flow'!F54+'Cash Flow'!F57 -> 322507.09 | G41: =C41-F41-D41 -> 124515.41 | H41: =IFERROR((D41+F41)/C41,0) -> 0.73507923
B42: Textbooks and Instructional Supplies | C42: ='Cash Flow'!E86+'Cash Flow'!E87+'Cash Flow'!E90 -> 286913 | D42: =24000+11656.1+2700+6000 -> 44356.1 | F42: ='Cash Flow'!F86+'Cash Flow'!F87+'Cash Flow'!F90 -> 165706.35 | G42: =C42-F42-D42 -> 76850.55 | H42: =IFERROR((D42+F42)/C42,0) -> 0.73214685
B43: Building Maintenance and Custodial Services | C43: ='Cash Flow'!E64 -> 12500 | F43: ='Cash Flow'!F62+'Cash Flow'!F64 -> 72.95 | G43: =C43-F43-D43 -> 12427.05 | H43: =IFERROR((D43+F43)/C43,0) -> 0.005836
B44: Other Expenses | C44: ='Cash Flow'!E104-SUM('Web Report'!C35:C43)-'Web Report'!C45 -> 803045 | D44: =237099.17-164033.27 -> 73065.9 | F44: ='Cash Flow'!F104-SUM('Web Report'!F35:F43) -> 439355.01 | G44: =C44-F44-D44 -> 290624.09 | H44: =IFERROR((D44+F44)/C44,0) -> 0.63809738
B45: Contingency | C45: ='Cash Flow'!E102 -> 121414.42 | F45: =+'Cash Flow'!F102 -> 0 | G45: =C45-F45-D45 -> 121414.42 | H45: =IFERROR((D45+F45)/C45,0) -> 0
B47: Total Operating Budget | C47: =SUM(C35:C46) -> 7324654.4 | D47: =SUM(D35:D46) -> 237099.17 | F47: =SUM(F35:F46) -> 5580128.9 | G47: =SUM(G35:G46) -> 1507426.3 | H47: =IFERROR((D47+F47)/C47,0) -> 0.7941983
B50: Surplus | F50: =+D27-F47 -> 2723396.6
B51: Surplus After Encumbrances | F51: =F50-D47 -> 2486297.4

Sheet GO Format
A1: Great Oaks - Wilmington 2020 Budget vs Actuals
B2: Final Budget 2019 | C2: Received/Spent To Date | D2: % | E2: Remaining
C3: ='Cash Flow'!L7 -> 44287
A4: Enrollment | B4: ='Cash Flow'!D10 -> 318 | C4: =B4 -> 318
A6: REVENUES
A7: Per Pupil Revenues | B7: =SUM('Cash Flow'!D13:D15)+'Cash Flow'!D20 -> 5246742 | C7: =SUM('Cash Flow'!F13:F15)+'Cash Flow'!F20 -> 5305636.8 | D7: =C7/B7 -> 1.011225 | E7: =B7-C7 -> -58894.83
A8: State Funding | B8: ='Cash Flow'!D18+'Cash Flow'!D23 -> 170117 | C8: ='Cash Flow'!F18+'Cash Flow'!F23+'Cash Flow'!F16 -> 170117 | D8: =C8/B8 -> 1 | E8: =B8-C8 -> 0
A9: Federal Funding | B9: ='Cash Flow'!D22+'Cash Flow'!D21 -> 1034697 | C9: ='Cash Flow'!F22+'Cash Flow'!F21 -> 1012032.8 | D9: =C9/B9 -> 0.97809584 | E9: =B9-C9 -> 22664.17
E10: =B10-C10 -> 0
A11: Grants/Contributions | B11: ='Cash Flow'!D24 -> 150000 | C11: ='Cash Flow'!F24 -> 131550 | D11: =C11/B11 -> 0.877 | E11: =B11-C11 -> 18450
A13: Other Revenue | B13: ='Cash Flow'!D25 -> 10931 | C13: ='Cash Flow'!F25 -> 0 | D13: =C13/B13 -> 0 | E13: =B13-C13 -> 10931
A15: TOTAL REVENUES | B15: =SUM(B7:B14) -> 6612487 | C15: =SUM(C7:C14) -> 6619336.7 | D15: =C15/B15 -> 1.0010359 | E15: =B15-C15 -> -6849.66
A17: EXPENSES
A18: Personnel
A19: Employee Salaries | B19: ='Cash Flow'!D39 -> 2655907 | C19: ='Cash Flow'!F39 -> 2312184.8 | D19: =C19/B19 -> 0.87058199 | E19: =B19-C19 -> 343722.21
A20: Payroll Taxes | B20: =SUM('Cash Flow'!D43:D46) -> 247264.94 | C20: =SUM('Cash Flow'!F43:F46) -> 210864.39 | D20: =C20/B20 -> 0.85278725 | E20: =B20-C20 -> 36400.552
A21: Health/Dental | B21: ='Cash Flow'!D42 -> 422380 | C21: ='Cash Flow'!F42 -> 364670.41 | D21: =C21/B21 -> 0.86337045 | E21: =B21-C21 -> 57709.59
A22: Retirement | B22: ='Cash Flow'!D41 -> 609530.66 | C22: ='Cash Flow'!F41 -> 524449.74 | D22: =C22/B22 -> 0.86041569 | E22: =B22-C22 -> 85080.916
A23: Subtotal Personnel | B23: =SUM(B19:B22) -> 3935082.6 | C23: =SUM(C19:C22) -> 3412169.3 | D23: =C23/B23 -> 0.86711505 | E23: =B23-C23 -> 522913.27
A25: Non-Personnel
A26: Professional/Contracted | B26: =SUM('Cash Flow'!D51:D57)+'Cash Flow'!D61 -> 752010 | C26: =SUM('Cash Flow'!F51:F57)+'Cash Flow'!F61 -> 535957.01 | D26: =C26/B26 -> 0.71269931 | E26: =B26-C26 -> 216052.99
A27: School Operations | B27: ='Cash Flow'!D58+SUM('Cash Flow'!D67:D77)+SUM('Cash Flow'!D80:D93)+'Cash Flow'!D49+'Cash Flow'!D62+'Cash Flow'!D60 -> 1238823 | C27: ='Cash Flow'!F58+SUM('Cash Flow'!F67:F77)+SUM('Cash Flow'!F80:F93)+'Cash Flow'!F49+'Cash Flow'!F62+'Cash Flow'!F60 -> 680120.29 | D27: =C27/B27 -> 0.54900522 | E27: =B27-C27 -> 558702.71
A28: Facilities Oper/Maint | B28: ='Cash Flow'!D59+'Cash Flow'!D64+'Cash Flow'!D65+'Cash Flow'!D66 -> 954331.04 | C28: ='Cash Flow'!F59+'Cash Flow'!F64+'Cash Flow'!F65+'Cash Flow'!F66 -> 879126.72 | D28: =C28/B28 -> 0.92119682 | E28: =B28-C28 -> 75204.32
A29: Tutor Expenses | B29: ='Cash Flow'!D63 -> 80967 | C29: ='Cash Flow'!F63 -> 72755.56 | D29: =C29/B29 -> 0.89858288 | E29: =B29-C29 -> 8211.44
A30: Subtotal Non-Personnel | B30: =SUM(B26:B29) -> 3026131 | C30: =SUM(C26:C29) -> 2167959.6 | D30: =C30/B30 -> 0.71641299 | E30: =B30-C30 -> 858171.46
A31: TOTAL EXPENSES | B31: =B30+B23 -> 6961213.6 | C31: =C30+C23 -> 5580128.9 | D31: =C31/B31 -> 0.80160288 | E31: =B31-C31 -> 1381084.7
A33: Add: Depreciation/Amortization | B33: 82322 | C33: =B33/12*12 -> 82322 | D33: =C33/B33 -> 1
A34: Less: Capital Purchases | B34: =-'Cash Flow'!D100 -> 0 | C34: =-'Cash Flow'!F100 -> 0 | D34: =C34/B34 -> #DIV/0!
A36: NET SURPLUS (DEFICIT) - CASH BASIS | B36: =B15-B31+B33+B34 -> -266404.64 | C36: =C15-C31+C33+C34 -> 1121529.8
A38: ENDING CASH SURPLUS (DEFICIT) | B38: =B36+1103967 -> 837562.36 | C38: =C36+1103967 -> 2225496.8
A40: NET SURPLUS (DEFICIT) - ACCRUAL BASIS | B40: =B15-B31 -> -348726.64 | C40: =C15-C31 -> 1039207.8
A42: CASH COST PER PUPIL | B42: =(B31-B33-B34)/B4 -> 21631.735 | C42: =(C31-C33-C34)/C4 -> 17288.701
A44: PHILANTHROPHY PER PUPIL | B44: =B11/B4 -> 471.69811 | C44: =C11/C4 -> 413.67925
A47: NOT UPDATED FOR 2021
